BEGIN:VCALENDAR
VERSION:2.0
PRODID:-//eventon.com NONSGML v1.0//EN
CALSCALE:GREGORIAN
METHOD:PUBLISH
BEGIN:VEVENT
UID:69e58184957bf
DTSTAMP:20260420T012940Z
DTSTART:20240628T170000Z
DTEND:20240628T174500Z
LOCATION:
SUMMARY:BJ the Clown's Traveling Comedy Show [Bethany Fountain]
DESCRIPTION:BJ the Clown's Traveling Comedy Show [Bethany Fountain]\nhttps:
 //www.bethanyvillage.com/events/bj-the-clown/
URL:https://www.bethanyvillage.com/events/bj-the-clown/
END:VEVENT
END:VCALENDAR